BEGIN:VCALENDAR
VERSION:2.0
PRODID:-//RARC - ECPv6.15.17.1//NONSGML v1.0//EN
CALSCALE:GREGORIAN
METHOD:PUBLISH
X-WR-CALNAME:RARC
X-ORIGINAL-URL:https://rochester-gop.com
X-WR-CALDESC:Events for RARC
REFRESH-INTERVAL;VALUE=DURATION:PT1H
X-Robots-Tag:noindex
X-PUBLISHED-TTL:PT1H
BEGIN:VTIMEZONE
TZID:America/Detroit
BEGIN:DAYLIGHT
TZOFFSETFROM:-0500
TZOFFSETTO:-0400
TZNAME:EDT
DTSTART:20250309T070000
END:DAYLIGHT
BEGIN:STANDARD
TZOFFSETFROM:-0400
TZOFFSETTO:-0500
TZNAME:EST
DTSTART:20251102T060000
END:STANDARD
BEGIN:DAYLIGHT
TZOFFSETFROM:-0500
TZOFFSETTO:-0400
TZNAME:EDT
DTSTART:20260308T070000
END:DAYLIGHT
BEGIN:STANDARD
TZOFFSETFROM:-0400
TZOFFSETTO:-0500
TZNAME:EST
DTSTART:20261101T060000
END:STANDARD
BEGIN:DAYLIGHT
TZOFFSETFROM:-0500
TZOFFSETTO:-0400
TZNAME:EDT
DTSTART:20270314T070000
END:DAYLIGHT
BEGIN:STANDARD
TZOFFSETFROM:-0400
TZOFFSETTO:-0500
TZNAME:EST
DTSTART:20271107T060000
END:STANDARD
END:VTIMEZONE
BEGIN:VEVENT
DTSTART;TZID=America/Detroit:20260421T160000
DTEND;TZID=America/Detroit:20260421T160000
DTSTAMP:20260421T054229
CREATED:20260207T165505Z
LAST-MODIFIED:20260207T165505Z
UID:1419-1776787200-1776787200@rochester-gop.com
SUMMARY:Deadline to file for office
DESCRIPTION:This is the deadline to file for office. This includes all signatures for statewide candidates like Governor have to be filed.
URL:https://rochester-gop.com/event1/deadline-to-file-for-office/
END:VEVENT
END:VCALENDAR